BEGIN:VCALENDAR
VERSION:2.0
PRODID:-//hacksw/handcal//NONSGML v1.0//EN
CALSCALE:GREGORIAN
BEGIN:VEVENT
LOCATION:Raum I-15-30\, Gebäude I\, Campus Grifflenberg
DESCRIPTION:Im Rahmen der somehow affected Talkreihe hält Juliane Ahn einen Vortrag zum Thema: Robotic Operations – Mensch und Maschine im …
DTSTART:20221215T180000
DTEND:20221215T184500
SUMMARY:somehow affected Talk: Robotic Operations – Mensch und Maschine im chirurgischen Verbund
URL;VALUE=URI:https://mr.uni-wuppertal.de/mr/termine/robotic-operations-mensch-und-maschine-im-chirurgischen-verbund
DTSTAMP:20260423T093703
UID:69e9cc1f3cde1
END:VEVENT
END:VCALENDAR