BEGIN:VCALENDAR
VERSION:2.0
PRODID:-//hacksw/handcal//NONSGML v1.0//EN
CALSCALE:GREGORIAN
BEGIN:VEVENT
LOCATION:Raum I-15-30\, Gebäude I\, Campus Grifflenberg
DESCRIPTION:Im Rahmen der somehow affected Talkreihe spricht Alice Rzezonka\, wiss. Mitarbeiterin des Teilstudiengangs Design Interaktiver Medien über …
DTSTART:20220707T180000
DTEND:20220707T184500
SUMMARY:somehow affected Talk: Was es heißt\, User*in zu sein – Vom privilegierten Zugang zum Computer
URL;VALUE=URI:https://mr.uni-wuppertal.de/mr/termine/somehow-affected-talk-was-es-heisst-user-in-zu-sein-vom-privilegierten-zugang-zum-computer
DTSTAMP:20260423T212822
UID:69ea72d67bf38
END:VEVENT
END:VCALENDAR