BEGIN:VCALENDAR
VERSION:2.0
PRODID:-//hacksw/handcal//NONSGML v1.0//EN
CALSCALE:GREGORIAN
BEGIN:VEVENT
LOCATION:Raum I-15-30\, Gebäude I\, Campus Grifflenberg
DESCRIPTION:Im Rahmen der somehow affected Talkreihe hält Jakob Kilian einen Vortrag mit dem Titel "Unfolding Space Handschuh – Forschung an einem …
DTSTART:20221027T180000
DTEND:20221027T184500
SUMMARY:somehow affected Talk: Unfolding Space Handschuh – Forschung an einem Hilfsmittel für Sehbeeinträchtigte
URL;VALUE=URI:https://mr.uni-wuppertal.de/mr/termine/somehow-effected-talk-der-unfolding-space-handschuh-forschung-an-einem-hilfsmittel-fuer-sehbeeintraechtigte
DTSTAMP:20260422T202951
UID:69e9139f464ca
END:VEVENT
END:VCALENDAR